Workbook

Sheet Summary
A1: 2027 SSAF BID JCUSA SPPL
A3: SSAF CATEGORY | B3: SSAF CATEGORY # | C3: Descriptor 2027 | D3: 2027 BID | E3: 2027 NOTES | F3: 2026 APPROVED SSAF | G3: 2025 Bid | H3: 2024 Bid | I3: 2023 Bid | J3: 2022 Bid | K3: 2021 Bid | L3: 2020 Bid | M3: Comments for 2024: | Q3: 2026 Comments
A4: Student Representation | B4: 2 | C4: Student Council Honaraiums, Election and Affliations | D4: =Representation!B37 -> 155650 | E4: JCUSA President Request | F4: =Representation!F37 -> 124980 | G4: 127980 | H4: =Representation!I37 -> 59934.5 | I4: =Representation!J37 -> 88865 | J4: =Representation!K37 -> 106815 | K4: =Representation!L37 -> 128815 | L4: =Representation!M37 -> 112995 | Q4: Student Council, Election and Affliations
A5: Student Advocacy Services | B5: 17 | C5: Student Advocacy Services | D5: =Advocacy!B35 -> 446000 | E5: Less one Position | F5: =Advocacy!D35 -> 515045.17 | G5: =Advocacy!E35 -> 494030 | H5: =Advocacy!F35 -> 454434.67 | I5: =Advocacy!G35 -> 391325.25 | J5: =Advocacy!H35 -> 279771.57 | K5: =Advocacy!I35 -> 400275.85 | L5: =Advocacy!J35 -> 244060.62 | M5: The 2025 figure is based on 3.4 FTE Advocates. JCUB to contribute for 60% of JCUB Advocate (approx $70k) | Q5: Student Advocates
A6: Student Events | B6: 18 | C6: Evenst held on Campus and on line for Students | D6: ='Events & Food & Drinks Students'!B7 -> 40000 | F6: ='Events & Food & Drinks Students'!E13 -> 41000 | G6: 22000
A7: Food and Drinks Students | B7: 1 | C7: Food and Drink provided free to stdudents at events | D7: ='Events & Food & Drinks Students'!B10 -> 25000 | F7: ='Events & Food & Drinks Students'!E15 -> 20000
A8: Clubs & Societies | B8: 3 | C8: Grants and Insurance | D8: ='Clubs & Societies Grants & Ins'!B8 -> 132500 | E8: JCUSA President Request | F8: ='Clubs & Societies Grants & Ins'!F8 -> 106000 | G8: 82000 | Q8: Grants and Insurance
A9: Student Sport and Recreation Operations | B9: 2a | C9: Sports & Recreation | D9: ='Sport & Rec Operations'!B38 -> 582053.6 | F9: ='Sport & Rec Operations'!D38 -> 447210 | G9: ='Sport & Rec Operations'!F38 -> 382420 | H9: ='Sport & Rec Operations'!G38 -> 367698.13 | I9: ='Sport & Rec Operations'!K38 -> 338385.54 | J9: ='Sport & Rec Operations'!L38 -> 353078.15 | K9: ='Sport & Rec Operations'!M38 -> 341985 | L9: ='Sport & Rec Operations'!N38 -> 332830.15 | M9: Increase for equity between Campuses in pay rate and to bring Programs officer under SSAF that has previously been JCUSA funded but works on SSAF activities/events. | Q9: Sports & Recreation
A10: Sport and Recration Competitions & Activities | B10: 3 | D10: =' Sport Competitions & Activitie'!B27 -> 220000 | F10: =' Sport Competitions & Activitie'!D27 -> 177000 | G10: 109150
A11: Student Media, Marketing, and Communications | B11: 14 | C11: Events and Communications Officer website, licences and media | D11: ='Media Marketig & Comms'!B23 -> 129480 | F11: ='Media Marketig & Comms'!D23 -> 111700 | G11: ='Media Marketig & Comms'!E23 -> 103800 | H11: ='Media Marketig & Comms'!F23 -> #REF! | I11: ='Media Marketig & Comms'!G23 -> #REF! | J11: ='Media Marketig & Comms'!H23 -> #REF! | K11: ='Media Marketig & Comms'!I23 -> #REF! | L11: ='Media Marketig & Comms'!J23 -> #REF! | Q11: Events and Communications Officer website, licences and media
A12: Management and Administration | B12: 2 | D12: ='Management & Administration'!B26 -> 497000 | E12: As required MOA and SLAs | F12: 320550 | G12: 179380
A13: Office Refit / Relocation | B13: 20 | C13: Refit/relocate JCUSA and SPPl Offices | D13: ='Refit Relocate Offices'!B13 -> 25000 | E13: Not completed 2026 | F13: ='Refit Relocate Offices'!D13 -> 15000 | G13: ='Refit Relocate Offices'!E13 -> 6000 | H13: ='Refit Relocate Offices'!F13 -> #REF! | I13: ='Refit Relocate Offices'!G13 -> #REF! | J13: ='Refit Relocate Offices'!H13 -> #REF! | K13: ='Refit Relocate Offices'!I13 -> #REF! | L13: ='Refit Relocate Offices'!J13 -> #REF! | M13: New laptop for GM & Finance Officer | Q13: Capital Allocation
A14: Student Welfare Projects | B14: 6 | C14: Period Positivty Program. Student Op Shop Food Bank | D14: ='Student Welfare Projects'!C18 -> 113000 | E14: Period Positivity Program | F14: ='Student Welfare Projects'!E18 -> 86000 | G14: 22000 | H14: 22000 | I14: 22000 | J14: 20000 | K14: 45000 | L14: 45000 | Q14: Orientation Week/s Market Days Labour & Admin
G15: 0 | H15: 5000 | I15: 3000 | J15: 5000 | K15: 10000 | L15: 10000
D16: Total SSAF BID 2027 | E16: Total SSAF BID 2026 | F16: 1997507 | H16: =SUM(#REF!,#REF!) -> #REF! | I16: =SUM(#REF!,#REF!) -> #REF! | J16: =SUM(#REF!,#REF!) -> #REF! | K16: =SUM(#REF!,#REF!) -> #REF! | L16: =SUM(#REF!,#REF!) -> #REF!
E17: PLUS ADDITIONAL POST BID APPROVED * | F17: 262493 | Q17: * Field Lighting, Gym Equipment, Period Pos Project, Regional & Remote Project
A18: TOTAL BID 2027 | D18: =SUM(D4:D15) -> 2365683.6 | E18: APPROVED BID 2026 | F18: =SUM(F16:F17) -> 2260000
C19: Increase | D19: =D18-F18 -> 105683.6
D20: 4% approx

Sheet Explanatory Notes
A1: Summary Notes | B1: 2027 Bid | C1: Explanation | D1: Increase
A2: Student Representation | C2: President's notes: | D2: =B4-Summary!F4 -> 30670
C3: a modestly increased and differentiated Council honorarium structure;
B4: =Summary!D4 -> 155650 | C4: Training and Conferences increased from $5,000 to $8,000;
C5: minimal $200 provisions for stationery and WHS;
C6: Clubs and Societies grants retained at $120,000;
C7: Clubs and Societies shared expenses increased from $1,000 to $2,500.
A8: Student Advocacy Services | B8: =Advocacy!B35 -> 446000 | C8: Saving of 1 Position (Cairns Advocate) | D8: =Advocacy!B35-Advocacy!D35 -> -69045.175
C9: Est 6% Salary Increase to EA Positions
C10: Increase in BNE Advocate cost now fully funded by SPPL SSAf wothout JCUB contribution
A11: Student Events | B11: =Summary!D6 -> 40000 | C11: minor Increase food costs | D11: 4000
A12: Food and Drinks Students | B12: =Summary!D7 -> 25000
A13: Clubs & Societies | C13: President's notes: | D13: =Summary!D8-Summary!F8 -> 26500
C14: Re-establishes club induction and updates governance, grant, acquittal and executive handover resources.
B15: =Summary!D8 -> 132500 | C15: Increased Grants budget supports growing club demand, with stronger criteria, reporting and public grant summaries to improve equity and transparency.
C16: Supports replacement, repair and accountable management of shared equipment used by affiliated clubs.
C17: Insurance estimate pending confirmation of actual premiums, coverage and any overlap with other insurance arrangements.
A18: Student Sport and Recreation Operations | C18: New Position - Clubs and Socieies , Compliance Officer | D18: 80000
C19: (saving in Cns Admin Role) | D19: =40000-D18 -> -40000
C20: est 6% EA annual salary increases | D20: 24800
B21: =Summary!D9 -> 582053.6 | C21: Repairs to Tennis Courts -conversion /addition of PickleBall Court | D21: 30000
C23: Net Increase | D23: =Summary!D9-Summary!F9 -> 134843.6
C24: less saving in Cns Admin | D24: 40000
D25: =D23-D24 -> 94843.6
A27: Sport and Recration Competitions & Activities | C27: Hosting of Indigenous National - HOST SSAF Contribution | D27: 50000
C28: Increase Social Sport for Students | D28: 10000
C29: Re-actiation of E Sports | D29: 5000
B30: =Summary!D10 -> 220000 | C30: Student Experience Program | D30: 10000
C31: Expansion of Cairns Gunarra Cup - sport for on campus student residents | D31: 5000
C32: less equipment replacement ($22 000 in 2026) | D32: -20000
C33: Savings in some sports programs
C34: Net Increase | D34: =Summary!D10-Summary!F10 -> 43000
A35: Student Media, Marketing, and Communications | B35: =Summary!D11 -> 129480 | C35: JCUSA Membership drive | D35: =Summary!D11-Summary!F11 -> 17780
C36: Social Media
C37: Website refresh and hosting
A39: Management and Administration | B39: =Summary!D12 -> 497000 | C39: 6% Ea Salary Increase to EA Positions | D39: =Summary!D12-Summary!F12 -> 176450
C40: Conversion of Perm Part Time Finance Officer to FTE
C41: 50% Finance Admin Assistant (new Role)
C42: Staff Entitlements - Redundancies/Leave Provisions - $100 000
A45: Office Refit / Relocation | B45: =Summary!D13 -> 25000 | C45: Office Refurb/Relocation Not done in 2026 Seperate SPPL and JCUSA Spaces | D45: =Summary!D13-Summary!F13 -> 10000
...

Sheet Representation
A1: JCUSA Student Representation
A2: SSAF Cat: 2 (a - f)
A3: Honorairiums | B3: 2027 BID | C3: 2027 Notes | D3: 2027 President BID | E3: Presidents Notes | F3: 2026 APPROVED SSAF | G3: PRESIDENT REQUEST | H3: 2025 Bid | I3: 2024 Bid | J3: 2023 Bid | K3: 2022 Bid | L3: 2021 Bid | M3: 2020 Bid | N3: Management and Council Comments
A4: President | B4: 22000 | D4: 22000 | E4: Modest indexation for principal representative role, with final figure deferred due to conflict sensitivity. | F4: 20000 | G4: 20000 | H4: 20000 | I4: 14250 | J4: 17500 | K4: 21000 | L4: 27000 | M4: 25000
A5: Vice-President | B5: 13500 | D5: 13500 | E5: Increase reflects expected stronger role in continuity, Council coordination and governance follow-through. | F5: 12000 | G5: 12000 | H5: 12000 | I5: 9900 | J5: 13500 | K5: 15000 | L5: 22000 | M5: 20000
A6: Treasurer | B6: 8000 | D6: 8000 | E6: Recognises increased financial oversight, governance and accountability responsibilities. | F6: 7000 | G6: 7000 | H6: 10000
A7: Secretary | B7: 8000 | D7: 8000 | E7: Recognises increased responsibility for governance, records, meetings and Council continuity. | F7: 7000 | G7: 7000 | H7: 10000
A8: Campus Officer TSV | B8: 8000 | D8: 8000 | E8: Recognises increased responsibility for campus engagement and local student representation. | F8: 7000 | G8: 7000 | H8: 10000 | I8: 3000 | J8: 12000 | K8: 12000 | L8: 13500 | M8: 12000
A9: Campus Officer CNS | B9: 8000 | D9: 8000 | E9: Recognises increased responsibility for campus engagement, parity and local student representation. | F9: 7000 | G9: 7000 | H9: 10000 | I9: 3000 | J9: 12000 | K9: 12000 | L9: 13500 | M9: 12000
A10: Womens Officer | B10: 7500 | D10: 7500 | E10: Modest indexation while the portfolio committee model continues to mature. | F10: 7000 | G10: 7000 | H10: 5000 | I10: 2117.5 | J10: 5000
A11: Equity and Diversity Officer | B11: 7500 | D11: 7500 | F11: 7000 | G11: 7000 | H11: 5000 | I11: 2117.5 | J11: 5000
A12: Indigenous Officer | B12: 7500 | D12: 7500 | F12: 7000 | G12: 7000 | H12: 5000 | I12: 2117.5 | J12: 5000 | K12: 5000
A13: Post Graduate Officer | B13: 7500 | D13: 7500 | F13: 7000 | G13: 7000 | H13: 5000 | I13: 4235 | J13: 0 | K13: 5000 | L13: 8000 | M13: 7000
A14: International Officer | B14: 7500 | D14: 7500 | F14: 7000 | G14: 7000 | H14: 5000 | I14: 2117.5 | J14: 0 | K14: 5000 | L14: 8000 | M14: 7000
A15: Environmental and Sustainability Officer | B15: 7500 | D15: 7500 | F15: 7000 | G15: 7000 | H15: 5000 | I15: 0 | J15: 5000 | K15: 0
A16: Wages Slippage 10% | B16: =-0.1*SUM(B4:B15) -> -11250 | D16: =-0.1*SUM(D4:D15) -> -11250 | F16: -10020 | G16: -10020 | H16: -10020 | I16: =-SUM(I4:I15)*0.1 -> -4285.5 | J16: =-SUM(J4:J15)*0.1 -> -7500 | N16: This assumes not all roles will fill over year
A17: TOTAL Honorariums | B17: =SUM(B4:B16) -> 101250 | D17: =SUM(D4:D16) -> 101250 | F17: =SUM(F4:F16) -> 91980 | G17: 91980 | H17: =SUM(H4:H16) -> 91980 | I17: =SUM(I4:I16) -> 38569.5 | J17: =SUM(J4:J16) -> 67500 | K17: =SUM(K4:K15) -> 75000 | L17: =SUM(L4:L15) -> 92000 | M17: =SUM(M4:M15) -> 83000
A19: Student Council Operating Costs
A20: Phone | B20: - | D20: - | E20: Nil allocation as councillors do not currently access or require a dedicated phone service. | F20: 0 | G20: 0 | H20: 0 | I20: 200 | J20: 200 | K20: 600 | L20: 600 | M20: 600
A21: Printing & Stationery | B21: 200 | D21: 200 | E21: Minimal allowance for unforeseen Council, governance and committee materials. | F21: 0 | G21: 0 | H21: 0 | I21: 200 | J21: 200 | K21: 500 | L21: 600 | M21: 600
A22: Computer Expenses (2 x IT Service agrmt) | B22: 2000 | D22: 2000 | E22: Retains established IT support costs for Council equipment. | F22: 2000 | G22: 2000 | H22: 2000 | I22: 1765 | J22: =1695+70 -> 1765 | K22: =1695+70 -> 1765 | L22: =1695+70 -> 1765 | M22: =1625+70 -> 1695 | N22: JCU IT Service agreement x 2 council computers
A23: Audit Fees | B23: 10000 | C23: complex 2025 Audit increased costs | D23: 10000 | E23: Retains GM estimate for audit and compliance costs arising from current financial complexity. | F23: 5000 | G23: 5000 | H23: 5000 | I23: 900 | J23: 900 | K23: 900 | L23: 900 | M23: 850 | N23: Increase here as it will be separate to SPPL
A24: Training & Conferences | B24: 8000 | D24: 8000 | E24: Increase supports representative capability, leadership development and sector learning | F24: 5000 | G24: 5000 | H24: 5000 | I24: 0 | J24: 0 | K24: 800 | L24: 1000 | M24: 1000 | N24: Increase to allow involvement at national conferences and events
A25: Elections | B25: 2000 | C25: Media costs | D25: 2000 | E25: Retains GM estimate for electoral administration and democratic process costs. | F25: 1500 | G25: 1500 | H25: 0 | I25: 2000 | J25: 2000 | K25: 4000 | L25: 4000 | M25: 3000 | N25: Cost of the electoral officer
A26: Council Travel | B26: 5000 | D26: 5000 | E26: Supports approved cross-campus representation, training and student engagement duties. | F26: 5000 | G26: 5000 | H26: 5000 | I26: 1000 | J26: 1000 | K26: 1000 | L26: 2000 | M26: 2000 | N26: Travel for council for induction and other rep duties
A27: Affiliation Fees Student Voice | B27: 5000 | D27: 5000 | E27: Maintains SVA access while strengthening uptake, promotion and knowledge-sharing across Council and clubs. | F27: 0 | G27: 0 | I27: 0 | J27: 0 | K27: 4500 | L27: 4500 | M27: 0
A28: Insurance | B28: 4000 | D28: 4000 | E28: Retains GM estimate subject to confirmation of coverage and avoidance of duplication. | F28: 3000 | G28: 3000 | H28: 3000 | I28: 11250 | J28: 11200 | K28: 12000 | L28: 12800 | M28: 12500 | N28: JCUSA Association Insurane NOT CLUBS AND SOCIETIES
A29: Legal Fees | B29: 5000 | C29: Revision of constitution and regs planned | D29: 5000 | E29: Provides targeted legal review of high-level governance documents and exceptional compliance matters. | F29: 0 | G29: 0 | H29: 0 | I29: 0 | J29: 0 | K29: 1000 | L29: 1000 | M29: 1000
A30: Student Council Induction & Training | B30: 3000 | C30: Travel | D30: 3000 | E30: Strong increase to address role clarity, handover, governance literacy and Council effectiveness. | F30: 1500 | G30: 1500 | H30: 1000 | I30: 1500 | J30: 1500 | K30: 2000 | L30: 2500 | M30: 2500 | N30: Critical for new council to understand the scope of their engagement & proper planning for 2025
A31: Awareness Campaigns & events held by councillors | B31: 5000 | D31: 5000 | E31: Supports joint student-facing awareness activities while preserving councillor and committee participation. | F31: 5000 | G31: 5000 | H31: 5000 | I31: 2500 | J31: 2500 | K31: 2500 | L31: 4000 | M31: 4000 | N31: Councillor events including Stress Less on both Campuses for SP1 & SP2, IDAHOBIT
A32: Miscellaneous (Shirts, Merch) | B32: 5000 | D32: 5000 | E32: Provides controlled contingency for unforeseen Council costs not reasonably classified elsewhere. | F32: 5000 | G32: 5000 | H32: 10000 | I32: 0 | J32: 0 | K32: 0 | L32: 150 | M32: 150 | N32: Memberships Shirts
A33: WH&S Expense | B33: 200 | D33: 200 | E33: Minimal contingency for minor safety and compliance needs arising from Council activity. | F33: 0 | G33: 0 | I33: 50 | J33: 100 | K33: 250 | L33: 1000 | M33: 100 | N33: Retain
A35: TOTAL Student Council Operating Costs | B35: =SUM(B20:B34) -> 54400 | D35: =SUM(D20:D34) -> 54400 | F35: =SUM(F21:F34) -> 33000 | H35: =SUM(H20:H34) -> 36000 | I35: =SUM(I20:I34) -> 21365 | J35: =SUM(J20:J34) -> 21365 | K35: =SUM(K20:K34) -> 31815 | L35: =SUM(L20:L34) -> 36815 | M35: =SUM(M20:M34) -> 29995
A37: TOTAL STUDENT REPRESENTATION | B37: =B35+B17 -> 155650 | D37: =SUM(D35+D17) -> 155650 | F37: =F35+F17 -> 124980 | H37: =SUM(H17+H35) -> 127980 | I37: =SUM(I17+I35) -> 59934.5 | J37: =SUM(J17+J35) -> 88865 | K37: =SUM(K17+K35) -> 106815 | L37: =SUM(L17+L35) -> 128815 | M37: =SUM(M17+M35) -> 112995

Sheet Advocacy
A1: JCUSA Student Advocacy and Welfare
A2: SSAF Cat: 17
A3: Position | B3: 2027 BID | C3: 2027 NOTES | D3: 2026 BID | E3: 2025 Bid | F3: 2024 Bid | G3: 2023 Bid | H3: 2022 Bid | I3: 2021 Bid | J3: 2020 Bid | K3: Management and Council Comments 2025
A4: Student Advocacy Officer (Townsville) | B4: 132000 | C4: Est 6% inc EA dictated | D4: =E4+(E4*3%) -> 124115 | E4: 120500 | F4: 115683 | G4: 110173.13 | H4: 103687 | I4: 98734 | J4: 95532 | K4: Madelaine Keogh
A5: Student Advocacy Officer (Townsville) | B5: 132000 | C5: Est 6% inc EA dictated | D5: =E5+(E5*3%) -> 124115 | E5: 120500 | F5: 115683 | G5: 109618.87 | I5: 94040 | J5: Self Fund 2020 | K5: Catherine Wyle
A6: Student Advocacy Officer (Brisbane) | B6: 132000 | C6: Est 6% inc EA dictated | D6: =D5 -> 124115 | F6: 0 | G6: 0 | H6: 0 | I6: 40058.28 | K6: Bne Advocate gian Corpuz 100% paid by SPPL
A7: Student Advocacy Officer (Cairns) | C7: Not Required | D7: =D6 -> 124115 | E7: 116480 | F7: 109890 | G7: 110927.03 | H7: 103957 | I7: 96790 | J7: 91155 | K7: Position unfilled mid 2025
C8: Not Required | E8: 45000 | F8: 41075 | K8: Student Advocacy Officer (Gian - portion not covered by JCUB)
A9: Admin support staff for advocacy | B9: 40000 | C9: 50% charged to Mgt and Admin budget. EA position est 6% inc 2027Admin & Support Officer | E9: 75000 | F9: 70285 | G9: 59704.91 | H9: 56328 | I9: 53536 | J9: 43994 | K9: now included in Mgt & Admin tab
A10: Staff Development | B10: 3000 | C10: EA requirment $1000 x 3
C11: Not Required | D11: =(D4+D5+D7)*1.5% -> 5585.175 | F11: =-(F9+F7+F4)*0.05 -> -14792.9 | G11: =-(G9+G7+G4)*0.05 -> -14040.254 | K11: Wages Backpay due to incorect CPI Calculation
A12: TOTAL Advocacy Staff Costs | B12: =SUM(B4:B11) -> 439000 | D12: =SUM(D4:D11) -> 502045.17 | E12: =SUM(E4:E11) -> 477480 | F12: =SUM(F4:F11) -> 437823.1 | G12: =SUM(G4:G11) -> 376383.69 | H12: =SUM(H4:H11) -> 263972 | I12: =SUM(I4:I11) -> 383158.28 | J12: =SUM(J4:J11) -> 230681
A14: Operating Costs
A15: Operating
A16: Misc Offcic Expenses - Printing, Stationery, phone, | B16: 5000 | E16: 250 | F16: 250 | G16: 250 | H16: 250 | I16: 300 | J16: 300 | K16: -Stationery and Photocopying
A17: Database & Case Management Subscription | B17: 8000 | E17: 2500 | F17: 2512.566 | G17: 2512.566 | H17: 2512.566 | I17: 2512.566 | J17: 2463.3 | K17: - Computers and Registers
A18: Advocacy campaigns | B18: 5000 | C18: Regional and Remote promotion and visits | E18: 200 | F18: 200 | G18: 200 | H18: 350 | I18: 350 | J18: 350 | K18: -Phone & Fax
A19: Travel & Accom - Advocates | B19: 7000 | C19: To regional remote and Bne | E19: 0 | F19: 0 | G19: 0 | H19: 350 | I19: 450 | J19: 450 | K19: -Printing Expenses
E20: 0 | F20: 100 | G20: 100 | H20: 100 | I20: 150 | J20: 150 | K20: -Minor Asset Purchases
E21: 100 | F21: 200 | G21: 250 | H21: 400 | I21: 1000 | J21: 250 | K21: -WH&S Expenses
D22: 5000 | E22: =SUM(E15:E21) -> 3050 | F22: =SUM(F15:F21) -> 3262.566 | G22: =SUM(G15:G21) -> 3312.566 | H22: =SUM(H15:H21) -> 3962.566 | I22: =SUM(I15:I21) -> 4762.566 | J22: =SUM(J15:J21) -> 3963.3
E23: 1000 | F23: 889 | G23: 889 | H23: 823 | I23: 800 | J23: =77289.65*0.01 -> 772.8965 | K23: 1% of wage costs
E24: 1000 | F24: 889 | G24: 889 | H24: 808 | I24: 760 | J24: Self Fund 2020 | K24: 1% of wage costs
F25: 551 | H25: 681 | I25: 325 | K25: JCUB application
E26: 1000 | F26: 870 | G26: 919 | H26: 825 | I26: 785 | J26: =73749.81*0.01 -> 737.4981 | K26: 1% of wage costs
F27: 328 | G27: 0 | H27: 0
E28: 1000 | F28: 672 | G28: 482 | H28: 450 | I28: 435 | J28: =35592.99*0.01 -> 355.9299 | K28: Staff Development Cns Support Officer
D29: 8000 | E29: 8000 | F29: 7900 | G29: 7200 | H29: 7000 | I29: 7000 | J29: 6800 | K29: Code 360- Advocate Database. Based on 2023 costs.
E30: 500 | F30: 500 | G30: 500 | H30: 500 | I30: 750 | J30: 750 | K30: Representation of all students on Campus, Raise awareness of student relevant issues
E31: 1000 | F31: 750 | G31: 750 | H31: 750 | I31: 1500
A33: Advocacy operating Costs Total | B33: =B19 -> 7000 | D33: =SUM(D22:D32) -> 13000 | E33: =SUM(E22:E32) -> 16550 | F33: =SUM(F22:F32) -> 16611.566 | G33: =SUM(G22:G32) -> 14941.566 | H33: =SUM(H22:H32) -> 15799.566 | I33: =SUM(I22:I32) -> 17117.566 | J33: =SUM(J22:J32) -> 13379.624
A35: Total Advocacy Costs | B35: =B33+B12 -> 446000 | D35: =D12+D33 -> 515045.17 | E35: =SUM(E12+E33) -> 494030 | F35: =SUM(F12+F33) -> 454434.67 | G35: =SUM(G12+G33) -> 391325.25 | H35: =SUM(H12+H33) -> 279771.57 | I35: =SUM(I12+I33) -> 400275.85 | J35: =SUM(J12+J33) -> 244060.62

Sheet Events & Food & Drinks Students
A1: Events For Students & Food and Drink | H1: Tsv | I1: Cns | J1: totals
A2: SSAF Cat: 1, 2 (c,e & f) 3, 6, 20
A3: Student Events | B3: 2027 BID | C3: 2027 NOTES | D3: Events | E3: 20226 BID | F3: 2025 Bid | G3: 2024 Bid | K3: 2023 Bid | L3: 2022 Bid | M3: 2021 Bid | N3: 2020 Bid | O3: Details
A5: Orientation Weeks | B5: 10000 | C5: O Weeks, Market Days, Welcome Breakfasts,Social Activities | D5: O Weeks x 3 | E5: 15000 | F5: g with equip | O5: Staff and Casual Labour, Hire Equipment
A6: Specific Student Events | B6: 30000 | C6: Advocacy Outreach, Survive and Thrive, Stress Less, RU OK Day, IDAHOBIT Live broadcast events | D6: Markets Days 2 | E6: 6000 | O6: Staff and Casual Labour, Hire Equipment
A7: Total Event Costs | B7: =SUM(B5:B6) -> 40000
O8: Staff and Casual Labour, Hire Equipment
D9: Stress Less
A10: Food and Drink on Campus | B10: 25000 | C10: Above events plus Donut/Food Days planned through year | D10: Sub Total | E10: 20000
E13: =SUM(E5:E12) -> 41000
D15: Free breakfast. Pancake Days, Event Catering | E15: 20000 | F15: 0 | O15: Providing Food and Drink on Campus

Sheet Student Welfare Projects
A1: Student Welfare Projects | G1: Tsv | H1: Cns | I1: totals
A2: SSAF Cat: 6
A3: Project | B3: Detail | C3: 2027 Bid | D3: 2027 Notes | E3: 20226 BID | F3: 2024 Bid | J3: 2023 Bid | K3: 2022 Bid | L3: 2021 Bid | M3: 2020 Bid | N3: Details
A5: Purchase and Distribution of Period Positivity Products | B5: Purchase of Products | C5: 75000 | E5: 75000
A6: Tsv and Cns Campuses
B7: CasualStaff @ 5hrs/week Tsv and Cns Inclusive | C7: 8000 | E7: 8000
B9: Administration | C9: 3000 | E9: 3000
B11: Mackay & Cns CBD Campuses Service | C11: 7000 | D11: Expanding to Mackay Campuses and Cairns CBD campus
A14: Establishment of a Student Op -Shop / Food Bank
A15: Colaboration -JCUSA and Student Services | B15: Establishment Costs | C15: 10000
B16: Casual Staff | C16: 10000
A18: Total Welfare Projects | C18: =SUM(C5:C17) -> 113000 | E18: =SUM(E5:E11) -> 86000

Sheet Clubs & Societies Grants & Ins
A1: Grants for JCUSA Clubs, Societies, Affiliated Assocations
A2: SSAF Cat: 2 & 3
A3: Clubs, Societies and Associations | B3: 2027 Bid | C3: Notes 2027 | D3: 2027 President BID | E3: Presidents Notes | F3: 2026 BID | G3: 2025 Approved Bid | H3: 0 | I3: 0 | J3: 0 | K3: 4000 | N3: 2026 Notes
A4: Clubs Development | B4: 5000 | C4: Used to assist clubs to affiliationand formation - supporting events | D4: 5000 | E4: Re-establishes club induction and updates governance, grant, acquittal and executive handover resources. | F4: 0 | H4: 35000 | I4: 29000 | J4: 30000 | K4: 65000 | L4: 65000 | M4: Increase due to increase in Clubs/Societies affiliating in 2023 & increase in grant applications.
A5: Grants for Clubs, Societies, Affiliated Associations | B5: 120000 | C5: More clubs affiliated and created | D5: 120000 | E5: Supports growing club demand, with stronger criteria, reporting and public grant summaries to improve equity and transparency. | F5: 100000 | G5: 70000 | H5: 1000 | I5: 1500 | J5: 1500 | K5: 2000 | L5: 2000 | M5: For BBQ Packs, BBQ maintenance, minor asset purchases such as Eskies and Water coolers, speaker systems for club use - reduce due to increase in grant request. | N5: There was insufficient amounts for the grants this year. However, the plan for 2026 grants is to only have a single round not two.
A6: Clubs and Soc Expenses | B6: 2500 | D6: 2500 | E6: Supports replacement, repair and accountable management of shared equipment used by affiliated clubs. | F6: 1000 | G6: 0 | H6: 30000 | I6: 24000 | J6: 25000 | K6: 25000 | L6: 22000 | M6: Insurance - increase due to significantly higher oncosting from JCU in 2023. | N6: Eskies are starting to age. Some may require replacing. The BBQ will also likely require replacing.
A7: Insurance | B7: 5000 | D7: 5000 | E7: Retains GM estimate pending confirmation of actual premiums, coverage and any overlap with other insurance arrangements. | F7: 5000 | G7: 12000 | H7: =SUM(H3:H6) -> 66000 | I7: =SUM(I3:I6) -> 54500 | J7: =SUM(J3:J6) -> 56500 | K7: =SUM(K3:K6) -> 96000 | L7: =SUM(L4:L6) -> 89000 | N7: This could be less, depending on how much the insurance cost is. The year of 2025 was approx $2100
A8: TOTAL | B8: =SUM(B4:B7) -> 132500 | D8: =SUM(D4:D7) -> 132500 | F8: =SUM(F5:F7) -> 106000 | G8: =SUM(G4:G7) -> 82000

Sheet Sport & Rec Operations
A1: Student Sport and Recreation Operations | H1: Tsv | I1: Cns | J1: totals
A2: SSAF CAT: 2, 3, 6,
A3: Position | B3: 2027 BID | C3: 2027 Notes | D3: 2026 BID | E3: S&R Mgr Est | F3: 2025 Bid | G3: 2024 Bid | K3: 2023 Bid | L3: 2022 Bid | M3: 2021 Bid | N3: 2020 Bid | O3: 2026 Details
A4: Sports and Recreation Manager (Tsv) | B4: =D4+(D4*6%) -> 127740.6 | C4: EA Position est 6% inc 2027 | D4: =F4+(F4*3%) -> 120510 | F4: 117000 | G4: 111855.75 | H4: 131595 | J4: =I4+H4 -> 131595 | K4: 123171.74 | L4: 113067 | M4: 107155 | N4: 107350 | O4: Jason Conn
A5: Sports and Recreation Operations Coordinator (Tsv) | B5: =D5+(D5*6%) -> 103721 | C5: EA Position est 6% inc 2028 | D5: =F5+(F5*3%) -> 97850 | F5: 95000 | G5: 90877.5 | H5: 100975 | J5: =I5+H5 -> 100975 | K5: 94055.45 | L5: 85115 | M5: 85780 | N5: 86668 | O5: Vince Gardiner
A6: Sport and Rec Programs & Competitions Officer (Tsv) | B6: =D6+(D6*6%) -> 103721 | C6: EA Position est 6% inc 2029 | D6: =D5 -> 97850 | F6: 40000 | G6: 52757 | H6: 52757 | J6: =I6+H6 -> 52757 | K6: =54599-28797.85 -> 25801.15 | L6: 49089 | M6: 39764 | N6: 39764 | O6: Courtney Fitzgerald
A7: Sports and Recreation Officer (Cns) | B7: =D7+(D7*6%) -> 103721 | C7: EA Position est 6% inc 2030 | D7: =F7+(F7*3%) -> 97850 | F7: 95000 | G7: 91336.2 | I7: 101478 | J7: =I7+H7 -> 101478 | K7: 75684.86 | L7: 68767.15 | M7: 71250 | N7: 63498 | O7: Chaim Taylor
A8: Clubs & Complaiance Officer | B8: 80000 | C8: New Role to facilitate Clubs and Societies coordination, E sports facility activation and online student engagement. Admin lead for the clubs and societies committee and training for club executives, grant and booking coordination (venues and rooms on campus). Development of the role to incorporate JCU UniLife WHS and complience requirements admin and implementation. Offset by savings on Cairns Admin role. | D8: 8000 | G8: =-(G4+G5+G6+G7)*0.05 -> -17341.323 | J8: =G8 -> -17341.323 | K8: =-(K4+K5+K6+K7)*0.05 -> -15935.66 | O8: Wages Backpay
D9: -10000 | O9: Wages Slippage
A10: TOTAL Sports and Rec. Staff | B10: =SUM(B4:B9) -> 518903.6 | D10: =SUM(D4:D9) -> 412060 | F10: =SUM(F4:F8) -> 347000 | G10: =SUM(G4:G8) -> 329485.13 | H10: =SUM(H4:H8) -> 285327 | I10: =SUM(I4:I8) -> 101478 | J10: =SUM(J4:J8) -> 369463.68 | K10: =SUM(K4:K8) -> 302777.54 | L10: =SUM(L4:L8) -> 316038.15 | M10: =SUM(M4:M8) -> 303949 | N10: =SUM(N4:N8) -> 297280
A12: Operating Costs
A13: Operating | J13: =I13+H13 -> 0
A14: -Stationery and Photocopying | B14: 300 | D14: 300 | E14: 150 | F14: 150 | G14: 150 | H14: 100 | I14: 50 | J14: =I14+H14 -> 150 | K14: 150 | L14: 250 | M14: 250 | N14: 250
A15: - Computers and Registers | B15: 2000 | D15: 4000 | E15: 3500 | F15: 3500 | G15: 3445 | H15: 2584 | I15: 861 | J15: =I15+H15 -> 3445 | K15: 3445 | L15: 3445 | M15: 3445 | N15: 3445 | O15: JCU IT costs x 3 Tsv, x 1 Cns computer
A16: -Phone & Fax | B16: 500 | D16: 500 | E16: 100 | F16: 100 | G16: 100 | H16: 80 | I16: 20 | J16: =I16+H16 -> 100 | K16: 100 | L16: 150 | M16: 150 | N16: 150
A17: -Printing Expenses | B17: 500 | D17: 500 | E17: 300 | F17: 300 | G17: 300 | H17: 200 | I17: 100 | J17: =I17+H17 -> 300 | K17: 300 | L17: 150 | M17: 300 | N17: 300 | O17: Flyers and Business cards
A18: - Lease Exp (photocopier) | B18: 1250 | D18: 1250 | E18: 1170 | F18: 1170 | G18: 1170 | H18: 1170 | J18: =I18+H18 -> 1170 | K18: 1170 | L18: 1170 | M18: =110*12 -> 1320 | N18: =110*12 -> 1320 | O18: 50% of Printer Lease Costs - Printer in Fitness Reception area
A19: -WH&S Expenses | B19: 300 | D19: 300 | E19: 250 | F19: 250 | G19: 375 | H19: 225 | I19: 150 | J19: =I19+H19 -> 375 | K19: 375 | L19: 500 | M19: 1000 | N19: 250 | O19: reduce again from 2022
A20: Operating Subtotal | B20: =SUM(B14:B19) -> 4850 | D20: =SUM(D14:D19) -> 6850 | E20: =SUM(E14:E19) -> 5470 | F20: =SUM(F14:F19) -> 5470 | G20: =SUM(G14:G19) -> 5540 | H20: =SUM(H14:H19) -> 4359 | I20: =SUM(I14:I19) -> 1181 | J20: =SUM(J14:J19) -> 5540 | K20: =SUM(K14:K19) -> 5540 | ... N20: =SUM(N14:N19) -> 5715
A22: Staff Development Manager (Tsv) | B22: 1200 | D22: 1200 | E22: 1000 | F22: 1000 | G22: 1036 | H22: 1672 | J22: =I22+H22 -> 1672 | K22: 943 | L22: 886 | M22: 866 | N22: =86852*0.01 -> 868.52 | O22: 1% of wage costs
A23: Staff Development Officer (Tsv) | B23: 1200 | D23: 1200 | E23: 1000 | F23: 1000 | G23: 805 | J23: =I23+H23 -> 0 | K23: 729 | L23: 677 | M23: 695 | N23: =70119*0.01 -> 701.19 | O23: 1% of wage costs
A24: Staff Development Programs Officer (Tsv) | B24: 1200 | D24: 1200 | E24: 1000 | G24: 0 | J24: =I24+H24 -> 0 | K24: 0 | L24: 382 | M24: 500 | N24: =32171*0.01 -> 321.71
A25: Staff Development Officer (Cns) | B25: 1200 | D25: 1200 | E25: 1000 | F25: 1000 | G25: 781 | I25: 612 | J25: =I25+H25 -> 612 | K25: 612 | L25: 546 | M25: 580 | N25: =51373*0.01 -> 513.73 | O25: 1% of wage costs
A26: Vehicle costs | B26: 12000 | D26: 12000 | E26: 10000 | F26: 10000 | G26: =(744.5*12)+1000 -> 9934 | H26: 9934 | J26: =I26+H26 -> 9934 | K26: =(744.5*12)+1000 -> 9934 | L26: =(744.5*12)+800 -> 9734 | M26: =790*12 -> 9480 | N26: =790*12 -> 9480 | O26: Estimated 2023 cost
A27: AUS Affiliation | E27: 12000 | F27: 12000 | G27: 11367 | H27: 11367 | J27: =I27+H27 -> 11367 | K27: 9400 | L27: 9200 | M27: 9000 | N27: 8000 | O27: Increase due to change in fee structure resulting in higher cost to us. Email advised new fee.
A28: Repairs & Maintenance | B28: 4000 | D28: 4000 | E28: 3500 | G28: 0 | J28: =I28+H28 -> 0 | K28: 0 | L28: 1500 | M28: 2000 | N28: 2000
G29: 2500 | H29: 2500 | J29: =I29+H29 -> 2500 | K29: 2500 | L29: 2500 | M29: 2500 | N29: 2500 | O29: New approval in Supp Bids (no further to be approved)
A30: Waste | B30: 3500 | D30: 3500 | E30: 3000 | F30: 1450 | G30: 1450 | H30: 1450 | J30: =I30+H30 -> 1450 | K30: 1450 | L30: 1450 | M30: 1450 | N30: 1450 | O30: 50% Actual waste removal costs for bin at fitness centre.
E31: 1000 | G31: 1000 | H31: 1000 | J31: =I31+H31 -> 1000 | K31: 1000 | L31: 1000 | M31: 1000 | N31: 1000 | O31: Audit Fees
A32: Membership Data Base | B32: 4000 | D32: 4000 | E32: 3500 | F32: 3500 | G32: 3800 | H32: 3500 | J32: =I32+H32 -> 3500 | K32: 3500 | L32: 3500 | M32: 3500 | N32: 3000 | O32: Administrate Social Sport - Fusesport, Software for Sports Draws - Increase due to increase in cost. Based on 2023 figures
A33: TOTAL Operating Costs | B33: =SUM(B22:B32) -> 28300 | D33: =SUM(D22:D32) -> 28300 | F33: =SUM(F22:F32) -> 29950 | G33: =SUM(G22:G32) -> 32673 | H33: =SUM(H22:H32) -> 31423 | I33: =SUM(I22:I32) -> 612 | J33: =SUM(J22:J32) -> 32035 | K33: =SUM(K22:K32) -> 30068 | L33: =SUM(L22:L32) -> 31375 | M33: =SUM(M22:M32) -> 31571 | N33: =SUM(N22:N32) -> 29835.15
A35: Facilities Upgrade
A36: Repairs to Tennis Courts -conversion /addition of PickleBall Court | B36: 30000
A37: (in conjunction with Estates)
A38: TOTAL SPORT & REC | B38: =B36+B33+B20+B10 -> 582053.6 | D38: =D10+D33+D20 -> 447210 | F38: =SUM(F10,F20,F33) -> 382420 | G38: =SUM(G10+G20+G33) -> 367698.13 | H38: =SUM(H10+H20+H33) -> 321109 | I38: =SUM(I10+I20+I33) -> 103271 | J38: =SUM(J10+J20+J33) -> 407038.68 | K38: =SUM(K10+K20+K33) -> 338385.54 | L38: =SUM(L10+L20+L33) -> 353078.15 | M38: =SUM(M10+M20+M33) -> 341985 | N38: =SUM(N10+N20+N33) -> 332830.15
G41: 365743
G42: =G41-G38 -> -1955.1275

Sheet  Sport Competitions & Activitie
A1: Student Sport Competitions & Activities | B1: 2027 BID | C1: 2027 NOTES | D1: 2026 APPROVED BID | E1: 2025 Approved Bid | K1: 2025
A2: SSAF CAT: 2 (a) 6
F3: 2024 Bid | G3: 2023 Bid | H3: 2022 Bid | I3: 2021 Bid | J3: 2020 Bid | K3: Comments | L3: 2026 Comments
A4: University games (Uni Sports Nationals) | B4: 60000 | C4: Travel, Accom, Coaches & MGrs, net of student contribution | D4: 60000 | E4: 45000 | F4: 45000 | G4: 30000 | H4: 40000 | I4: 55000 | J4: 45000 | L4: Funds to be utilised to subsidise costs to compete at various UniSport Nationals events in 2026 with the main event to be held in Perth, Western Australia. These funds will help cover accommodation, uniforms and accredited coaches for the event(s). Perth in 2026 will incur high travel costs
A5: Chancellor's Cup (Univ vs Army) | B5: 10000 | C5: Event costs : hiring of venues, equipment, staffing, referees/umpires, medallions and advertising. | D5: 10000 | E5: 5000 | F5: 7500 | G5: 5200 | H5: 5200 | I5: 7500 | J5: 7500 | K5: This should not be soley funded by SSAF as there are external parties involved. | L5: Covers hiring of venues, equipment, staffing, referees/umpires, medallions and advertising. Will require additional funding for replacement of uniforms for new logo at a cost of $6,000.
A6: Indigenous Uni Games (Nationals) | B6: 50000 | C6: Hosting of 2027 Indigenous Nationals JCUSA SSAF Contribution. Hosting this event in Townsville 2027, this will require venue hire to accommodate for the week, opening ceremony, welcome to country, officials for competitions, development of student are and marketing collateral, and more auxiliary events to showcase the University. these funds will assist to subsidise the event for our JCU students and to run the event as a whole. | D6: 18000 | E6: 0 | F6: 15000 | G6: 0 | H6: 15000 | I6: 16000 | J6: 6000 | K6: Seek funding from IERC SSAF | L6: Event to be held in Newcastle, NSW. Covers the students registration, accommodation, uniforms, staffing and transport throughout the week. If IREC puts a bid in, that bid will subsidise their flights.
A7: JCUSA Sport Blue Awards (TSV & CNS) | B7: 10000 | C7: Funds to be utilised for Venue hire (including catering), staffing, medallions/trophies, guest speaker and possible equipment hire (dependent on venue location | D7: 10000 | E7: 5000 | F7: 8000 | G7: 8000 | H7: 8000 | I7: 8000 | K7: Decrease due to small student numbers | L7: Funds to be utilised for Venue hire (including catering), staffing, medallions/trophies, guest speaker and possible equipment hire (dependent on venue location).
A8: TOTAL Games and Competitions | B8: =SUM(B4:B7) -> 130000 | D8: =SUM(D4:D7) -> 98000 | E8: =SUM(E4:E7) -> 55000 | F8: =SUM(F4:F7) -> 75500 | G8: =SUM(G4:G7) -> 43200 | H8: =SUM(H4:H7) -> 68200 | I8: =SUM(I4:I7) -> 86500 | J8: =SUM(J4:J7) -> 58500
A9: Townsville Student Sport
A10: Winna Shield (Formerly Fisher shield) | B10: 12000 | C10: Costs to cover sourcing referees/officials, staffing, equipment hire/purchase and administration costs through the registration portal | D10: 12000 | E10: 10000 | F10: 10000 | G10: 8000 | H10: 8000 | I10: 10000 | J10: 10000 | K10: Increase costs for officials for sports (netball & soccer). | L10: Costs to cover sourcing referees/officials, staffing, equipment hire/purchase and administration costs through the registration portal.
A11: Social Sport | B11: 20000 | C11: Costs to cover sourcing referees/officials, staffing, subsidised fees for JCU students, the program will reignite engaging community as well. However they will not receive discounted rates. Purpose to create community on campus and increase community and Student engagement whilst supporting health and wellbeing | D11: 10000 | E11: 8500 | F11: 8500 | G11: 7500 | H11: 7500 | I11: 9400 | J11: 8400 | K11: Increase to $8,500 due to increase cost of running program - officals | L11: Costs to cover sourcing referees/officials, staffing, equipment purchases and administration costs through the registration portal.
A12: Inter-Faculty Sport | B12: 12000 | C12: Costs to cover sourcing referees/officials, staffing, trophies, venue coordination, sun safety equipment (marquees etc) Providing free access to sport on campus for JCU Students. Promoting health and wellbeing along with campus activation. | D12: 12000 | E12: 10000 | F12: 12500 | G12: 11000 | H12: 11000 | I12: 18200 | J12: 10000 | K12: Increase to $12,500 for Women's Rugby League 9s to be added to the Interfaculty Sport program. Went really well in 2023 but requires additional resources. | L12: Costs to cover sourcing referees/officials, staffing, equipment purchases and administration costs through the registration portal. Will require the purchasing of new uniforms for new logo which will cost $17000 for singlets and jerseys.
A13: JCUSA Sport Nationals Elite Representative Program | B13: 5000 | C13: Subsided costs for JCU Students to represent the university at UniSport Nationals. Includes flights, accommodation and registration. An application process for elite athletes to represent the University with high quality sport. Only awarded if students of elite standing present. | D13: 5000 | E13: 2000 | F13: 2000 | G13: 0 | H13: 2000 | I13: 3000 | J13: 1500 | K13: 2023 absence was noted by students - students request this be brought back. | L13: Subsided costs for JCU Students to represent the university at UniSport Nationals. Includes flights, accommodation and registration.
A14: E Sports Aciviation | B14: 5000 | C14: Facilitation of memberships/ administration software to recommence esports and online recreational activities. Purpose to engage online students, remote and non-face to face students.
A15: Repair and Maintenance to equipment owned by SPPL | B15: 5000 | C15: The replacement of sporting & Safety equipment including walkie talkies, balls, bibs, whistles, cones, nets and post pads and any other miscellaneous sporting equipment for Sport and Recreation Programs on campus. | D15: 5000 | F15: 1000 | G15: 1000 | H15: 1000 | I15: 2000 | J15: 500 | K15: replace post pads/ nets etc | L15: The replacement of sporting equipment including balls, new laptop for the scoreboard, bibs, whistles, cones, nets and post pads.
A16: Total Tsv Sport | B16: =SUM(B10:B15) -> 59000 | D16: =SUM(D10:D15) -> 44000 | E16: =SUM(E9:E15) -> 30500 | F16: =SUM(F9:F15) -> 34000 | G16: =SUM(G9:G15) -> 27500 | H16: =SUM(H9:H15) -> 29500 | I16: =SUM(I9:I15) -> 42600 | J16: =SUM(J9:J15) -> 30400
A17: Cairns Student Sport
A18: Cairns Social Sport | B18: 5000 | C18: Development of Social Sport & Recreation weekly games. Budget will also cover staffing, equipment and administration costs. Utilising the active spaces around campus to generate activation and interaction for the cairns based students. | D18: 5000 | E18: 4000 | F18: 4000 | G18: 3500 | H18: 4000 | I18: 5000 | J18: 4000 | K18: Increase due to JCU facilities no longer available. (Newman facility hire) | L18: Usuage of the Cairns sporting field if lights are put on there. Budget will also cover staffing, equipment and administration costs through the registration portal.
A19: Free Group Fitness Classes | B19: 5000 | C19: Covers the cost of the instructors who run these classes. This would allow for 100 free group fitness classes to be provided to the Cairns campus student population. With potential to work alongside other JCU Department events for maximum uptake. | D19: 5000 | E19: 3000 | F19: 3000 | G19: 0 | H19: 0 | I19: 1000 | K19: Increase to cover Weekly Yoga sessions in the Boathouse - all staff and students welcome. Previously paid for by JCUSA. Activity is popular and promotes health and wellbeing. | L19: Covers the cost of the instructors who run these classes.
A20: Inter Faculty Sport | B20: 2000 | C20: Pilot on campus student free sport competitions, replicating the strong program that currently runs in Townsville. | D20: 3000 | E20: 1500 | F20: 1250 | G20: 1250 | H20: 1250 | I20: 1500 | J20: 1500 | L20: Covers staffing, equipment, food and venue costs (if held off campus).
A21: Student Experience Program | B21: 10000 | C21: Pilot program for recreation activities, providing free experiences for students. e.g. waterhole excursions for international students with swimming safety and instructors. Purpose to assist with mental health and wellbeing, promoting safety when swimming in the far north. funding covers costs of travel and insurances plus any registration fees if required for activities | E21: 2000 | F21: 2000 | G21: 2000 | H21: 2000 | I21: 7500 | L21: Not happening in 2026.
A22: Cairns Gunyarra Cup | B22: 7000 | C22: Further development and support of on campus living sports competition, combatting cost of living by providing food in addition to organised semi competitive sport for residential students. | E22: 2000 | F22: 2000 | G22: 2500 | H22: 2500 | I22: 4000 | J22: 4000 | K22: Program needs a rework due to CSL changes. Still seeking to engage on campus students for health and wellbeing. | L22: Merged this into the Annual Events budget.
A23: Repair and Maintenance to equipment owned by SPPL | B23: 2000 | C23: The replacement of sporting & Safety equipment including walkie talkies, balls, bibs, whistles, cones, nets and post pads and any other miscellaneous sporting equipment for Sport and Recreation Programs on campus. | D23: 22000 | E23: 10000 | L23: The purchase of two treadmills to be purchased from Life Fitness to replace the current ones as they are at the end of their commercial life cycle.
F24: 0 | G24: 0 | H24: 0 | I24: 10750 | J24: 10750
A25: Total Cairns Sport | B25: =SUM(B18:B24) -> 31000 | D25: =SUM(D18:D24) -> 35000 | E25: =SUM(E18:E24) -> 22500
A27: TOTAL STUDENT SPORT & RECREATION - COMPETITIONS AND ACTIVITIES | B27: =B25+B16+B8 -> 220000 | D27: =D25+D16+D8 -> 177000 | E27: =E25+E16+E8 -> 108000

Sheet Media Marketig & Comms
A1: JCUSA Student Media and Communication SSAF Cat 14 | B1: 2027 BID | C1: 2027 NOTES | D1: 2026 BID | E1: 2025 Bid | F1: 2024 Bid | G1: 2023 Bid | H1: 2022 Bid | I1: 2021 Bid | J1: 2020 Bid | K1: 2026 Comments
A3: Staffing
A4: Media Marketing & Events Officer | B4: =D4+(D4*6%) -> 109180 | C4: EA Position est 6% inc 2027 | D4: 103000 | E4: 100000 | F4: 93515.4 | G4: 99501.61 | H4: 91269 | I4: 83293.52 | J4: 86668.41 | K4: Amanda Carter
F5: =-(F4+#REF!)*0.05 -> #REF! | G5: =-(G4+#REF!)*0.05 -> #REF! | K5: Wages Slippage 5%
D6: 1500 | K6: BackPay due to miss calculation of CPI
A7: Total Staffing | B7: =SUM(B4:B6) -> 109180 | D7: =SUM(D4:D6) -> 104500 | E7: =SUM(E4:E5) -> 100000 | F7: =SUM(F4:F5) -> #REF! | G7: =SUM(G4:G5) -> #REF! | H7: =SUM(H4:H4) -> 91269 | I7: =SUM(I4:I4) -> 83293.52 | J7: =SUM(J4:J4) -> 86668.41
A9: Operating
A10: Operating costs specific to SSAF Cat 14
A11: -Stationery and Photocopying | B11: 1000 | D11: 300 | E11: 150 | F11: 150 | G11: 150 | H11: 250 | I11: 250 | J11: 250
A12: - Computers | B12: 1000 | C12: JCU supplied and charged under SLA | D12: 2800 | E12: 2500 | F12: 2241 | G12: 2241 | H12: 2241 | I12: =J12*1.02 -> 2197.3248 | J12: =(176*12)*1.02 -> 2154.24 | K12: JCU IT x 2 Computers actual cost plus adobe for Tsv Media
A13: Membership Campaign | B13: 5000 | C13: In line with proposed automatic membership for all students countering opt out option | D13: 100 | E13: 100 | F13: 100 | G13: 100 | H13: 150 | I13: 150 | J13: 150 | K13: - Phone & Fax
A14: - Advertising and Promo | B14: 500 | D14: 500 | E14: 500 | F14: 750 | G14: 750 | H14: 1000 | I14: 1200 | J14: 1200
A15: -Printing Expenses | B15: 300 | D15: 100 | E15: 100 | F15: 100 | G15: 100 | H15: 100 | I15: 100 | J15: 100
A16: - Minor Asset Purchases | F16: 0 | G16: 0 | H16: 0
A17: - Licences and Trade Permits | B17: 1500 | F17: 150 | G17: 150 | H17: 150 | I17: 150 | J17: 150
A18: Social media | B18: 5000 | F18: 100 | G18: 125 | H18: 150 | I18: 300 | J18: 200 | K18: - WH&S Expenses
A19: Website Hosting Fees | B19: 3000 | D19: 2900 | E19: 2800 | F19: 2650 | G19: 2650 | H19: 2650 | I19: 2800 | J19: 2650 | K19: 1 yr website hosting and support.
A20: Website refresh | B20: 3000 | D20: 500 | E20: 1000 | F20: 812 | G20: 762 | H20: 728 | I20: 675 | J20: =47699*0.01 -> 476.99 | K20: Training Media
A21: Total Operating | B21: =SUM(B11:B20) -> 20300 | D21: =SUM(D11:D20) -> 7200 | E21: =SUM(E19:E20) -> 3800 | F21: =SUM(F19:F20) -> 3462 | G21: =SUM(G19:G20) -> 3412 | H21: =SUM(H19:H20) -> 3378 | I21: =SUM(I19:I20) -> 3475 | J21: =SUM(J19:J20) -> 3126.99
A23: TOTAL MEDIA & COMMS | B23: =B7+B21 -> 129480 | D23: =D21+D7 -> 111700 | E23: =E21+E7 -> 103800 | F23: =SUM(F7+#REF!+F21) -> #REF! | G23: =SUM(G7+#REF!+G21) -> #REF! | H23: =SUM(H7+#REF!+H21) -> #REF! | I23: =SUM(I7+#REF!+I21) -> #REF! | J23: =SUM(J7+#REF!+J21) -> #REF!

Sheet Management & Administration
A1: Management and Administration Costs | D1: 2026 APPROVED SSAF
A2: SPPL costs in the delivery of MOA/SLA responsibiliities to JCUSA SSAF Cat 2 (f) | B2: 2027 BID | C2: 2027 NOTES | E2: 2025 Bid | F2: 2024 Bid | G2: 2023 Bid | H2: 2022 Bid | I2: 2021 Bid | J2: 2020 Bid | K2: 2026 Comments
A3: Position
A4: Business Manager 1 FTE | B4: 170000 | C4: 100% SSAF funded | D4: 170000 | E4: 125000 | F4: 117784 | G4: 120947.75 | H4: 116046 | I4: 109885 | J4: 101550 | K4: Appointed at $150k inc Super
A5: Finance Officer 1 x FTE Equivilant | B5: =(110000*85%) -> 93500 | C5: 90% SSAF funded | D5: 55000 | E5: 45000 | F5: 0 | G5: 0 | H5: 0 | I5: 29652.04 | K5: Perm Part Time Appointed at $42/hr
A6: Finance /Admin Support Officer 1 x Perm Part Time | B6: 55000 | C6: 90% SSAF funded | D6: 70000 | F6: 0 | G6: =-G4*0.05 -> -6047.3875 | K6: Previously funded under Advocay budget
A7: Admin Officer CNS 1 x FTE | B7: 40000 | C7: 50% charged to Advocacy budget EA Position est 6% inc 2027
A8: Staff Entitlements - Redundancies/Leave Provisions | B8: 100000 | C8: Allowance for accumulated staff entitlements liability carried over from JCUSA
A9: TOTAL STAFF COSTS | B9: =SUM(B4:B8) -> 458500 | D9: =SUM(D4:D6) -> 295000 | E9: =SUM(E4:E6) -> 170000 | F9: =SUM(F4:F6) -> 117784 | G9: =SUM(G4:G6) -> 114900.36 | H9: =SUM(H4:H6) -> 116046 | I9: =SUM(I4:I6) -> 139537.04 | J9: =SUM(J4:J6) -> 101550
A11: SPPL Operating Costs SSAF Funded
A12: Office Rent - JCU Oncharge | B12: 0 | D12: 0 | K12: Office Rent - JCU Oncharge
A13: Telephone. IT Oncharge JCU | B13: 5000 | D13: 5000 | E13: 200 | F13: 200 | G13: 200 | H13: 600 | I13: 600 | J13: 600 | K13: Telephone. IT Oncharge JCU
A14: Stationery and Photocopying | B14: 1000 | D14: 500 | E14: 300 | F14: 300 | G14: 300 | H14: 400 | I14: 500 | J14: 500 | K14: Stationery and Photocopying
A15: Computers and Registers | B15: 6000 | D15: 6000 | E15: 1800 | F15: 1799.892 | G15: 1799.892 | H15: 1799.892 | I15: 1799.892 | J15: 1764.6 | K15: Computers and Registers
A16: Membership and Hire Agreements | B16: 2000 | D16: 1200 | E16: 1300 | F16: 1270 | G16: 1270 | H16: 1270 | I16: 1500 | J16: 1500 | K16: Membership and Hire Agreements
A17: Insurance | B17: 5000 | F17: 0 | G17: 0 | H17: 0 | I17: 0 | K17: Insurance
A18: Printing Expenses | B18: 500 | D18: 300 | E18: 100 | F18: 400 | G18: 400 | H18: 400 | I18: 400 | J18: 200 | K18: Printing Expenses
A19: Lease Exp (photocopier) | B19: 3000 | D19: 3000 | E19: 1170 | F19: 1170 | G19: 1170 | H19: 1170 | I19: 1320 | J19: 1320 | K19: Lease Exp (photocopier)
A20: WH&S Expenses (Riskware) | B20: 1000 | D20: 1000 | F20: 150 | G20: 250 | H20: 300 | I20: 500 | J20: 250 | K20: WH&S Expenses
A21: Travel | B21: 5000 | D21: 5000 | E21: 3000 | F21: 2500 | G21: 0 | H21: 0 | I21: 5000 | J21: 4700 | K21: Travel
A22: Audit Fees | B22: 5000 | D22: 3500 | E22: - | F22: 0 | G22: 0 | H22: 0 | K22: Audit Fees
A23: Misc JCU On-charging | B23: 5000
A24: Operating Costs Total | B24: =SUM(B12:B23) -> 38500 | D24: =SUM(D12:D22) -> 25500 | E24: =SUM(E21:E22) -> 3000 | F24: =SUM(F21:F22) -> 2500 | G24: =SUM(G21:G22) -> 0 | H24: =SUM(H21:H22) -> 0 | I24: =SUM(I21:I22) -> 5000 | J24: =SUM(J21:J22) -> 4700
A26: Total Management & Admin Costs | B26: =B9+B24 -> 497000 | D26: =D9+D24 -> 320500 | F26: =SUM(F9,#REF!,F24) -> #REF! | G26: =SUM(G9,#REF!,G24) -> #REF! | H26: =SUM(H9,#REF!,H24) -> #REF! | I26: =SUM(I9,#REF!,I24) -> #REF! | J26: =SUM(J9,#REF!,J24) -> #REF!

Sheet Refit  Relocate Offices
A1: Refit / Relocate Offices for JCUSA and SPPL
A2: SSAF Cat: 2 (f) | B2: 2027 Bid | C2: 2027 Notes
D3: 2026 Bid | E3: 2025 Approved | F3: 2024 Bid | G3: 2023 Bid | H3: 2022 Bid | I3: 2021 Bid | J3: 2020 Bid | K3: Comments
A5: Townsville
A6: Computer Replacement Tsv and Cns | D6: 0 | E6: 6000 | F6: 2000 | K6: Computer for GM
A8: Office Refurb/Relocation | B8: 25000 | C8: Not undertaken in 2026 | D8: 15000 | K8: Estates??
I11: 1500 | J11: 0
A13: Offcie Refit / Relocation Budget | B13: =SUM(B8:B12) -> 25000 | D13: =SUM(D5:D12) -> 15000 | E13: =SUM(E6:E12) -> 6000 | F13: =#REF! -> #REF! | G13: =#REF! -> #REF! | H13: =#REF! -> #REF! | I13: =#REF! -> #REF! | J13: =#REF! -> #REF!
